BEGIN:VCALENDAR
VERSION:2.0
PRODID:-//Al Hasanain Official - ECPv6.3.3.1//NONSGML v1.0//EN
CALSCALE:GREGORIAN
METHOD:PUBLISH
X-WR-CALNAME:Al Hasanain Official
X-ORIGINAL-URL:https://alhasanainofficial.com
X-WR-CALDESC:Events for Al Hasanain Official
REFRESH-INTERVAL;VALUE=DURATION:PT1H
X-Robots-Tag:noindex
X-PUBLISHED-TTL:PT1H
BEGIN:VTIMEZONE
TZID:UTC
BEGIN:STANDARD
TZOFFSETFROM:+0000
TZOFFSETTO:+0000
TZNAME:UTC
DTSTART:20220101T000000
END:STANDARD
END:VTIMEZONE
BEGIN:VEVENT
DTSTART;TZID=UTC:20220616T080000
DTEND;TZID=UTC:20220901T170000
DTSTAMP:20260423T202647
CREATED:20220618T120457Z
LAST-MODIFIED:20220907T060345Z
UID:4382-1655366400-1662051600@alhasanainofficial.com
SUMMARY:Summer Vacation 2022
DESCRIPTION:Al-Hasanain Islamic Institute will remain close for the Summer Vacation from 16th June to 1st September\, 2022. The Classes will resume on 3rd September\, 2022 (Saturday) with usual timings. \nThe current students of the Institute will go out in the path of Allah for Dawah o Tabligh for 40 days. The Graduates of this Academic Year will spend One Year in the path of Allah before stepping into the practical life.
URL:https://alhasanainofficial.com/event/summer-vacation/
LOCATION:Result Announcement for Mid-term Exams\, Al Hasanain Islamic Institute\, Green Town\,\, Faisalabad\, Punjab\, 38000\, Pakistan
CATEGORIES:Vacations
ATTACH;FMTTYPE=image/jpeg:https://alhasanainofficial.com/wp-content/uploads/2022/06/Summer-Vacation.jpg
END:VEVENT
END:VCALENDAR