BEGIN:VCALENDAR
VERSION:2.0
PRODID:-//Al Hasanain Official - ECPv6.3.3.1//NONSGML v1.0//EN
CALSCALE:GREGORIAN
METHOD:PUBLISH
X-WR-CALNAME:Al Hasanain Official
X-ORIGINAL-URL:https://alhasanainofficial.com
X-WR-CALDESC:Events for Al Hasanain Official
REFRESH-INTERVAL;VALUE=DURATION:PT1H
X-Robots-Tag:noindex
X-PUBLISHED-TTL:PT1H
BEGIN:VTIMEZONE
TZID:Asia/Karachi
BEGIN:STANDARD
TZOFFSETFROM:+0500
TZOFFSETTO:+0500
TZNAME:PKT
DTSTART:20210101T000000
END:STANDARD
END:VTIMEZONE
BEGIN:VEVENT
DTSTART;TZID=Asia/Karachi:20211223T110000
DTEND;TZID=Asia/Karachi:20220104T183000
DTSTAMP:20260425T112143
CREATED:20170309T083842Z
LAST-MODIFIED:20220607T041650Z
UID:630-1640257200-1641321000@alhasanainofficial.com
SUMMARY:Vacations 2021
DESCRIPTION:When the mid-term exams are over\, the students go on short holidays to refresh themselves and relieve some of the pressure experienced during the academic year. The semester break also helps them to reset their minds and bodies before moving on to the next phase of academic year. The semester break usually starts in the end of December and lasts till early January. \nThis Academic Year\, the semester break started from 23rd of December\, 2021 and lasted till 4th of January\, 2022. The students returned to campus with fresh minds and a new enthusiasm.
URL:https://alhasanainofficial.com/event/vacations/
LOCATION:Result Announcement for Mid-term Exams\, Al Hasanain Islamic Institute\, Green Town\,\, Faisalabad\, Punjab\, 38000\, Pakistan
CATEGORIES:Vacations
ATTACH;FMTTYPE=image/jpeg:https://alhasanainofficial.com/wp-content/uploads/2017/03/400X400.jpg
END:VEVENT
END:VCALENDAR