BEGIN:VCALENDAR
VERSION:2.0
PRODID:-//Al Hasanain Official - ECPv6.3.3.1//NONSGML v1.0//EN
CALSCALE:GREGORIAN
METHOD:PUBLISH
X-ORIGINAL-URL:https://alhasanainofficial.com
X-WR-CALDESC:Events for Al Hasanain Official
REFRESH-INTERVAL;VALUE=DURATION:PT1H
X-Robots-Tag:noindex
X-PUBLISHED-TTL:PT1H
BEGIN:VTIMEZONE
TZID:UTC
BEGIN:STANDARD
TZOFFSETFROM:+0000
TZOFFSETTO:+0000
TZNAME:UTC
DTSTART:20230101T000000
END:STANDARD
END:VTIMEZONE
BEGIN:VEVENT
DTSTART;TZID=UTC:20230914T110000
DTEND;TZID=UTC:20230914T130000
DTSTAMP:20260421T141405
CREATED:20230916T051945Z
LAST-MODIFIED:20231212T054147Z
UID:5300-1694689200-1694696400@alhasanainofficial.com
SUMMARY:Annual Result 2023
DESCRIPTION:The annual result has been announced and prize distribution ceremony was held at Jamiah tul Hussnain on Thursday. Congratulations to all the awardees. The hard work of students has truly paid off. Here’s to end of an academic session and beginning of a new one! \n  \n  \n 
URL:https://alhasanainofficial.com/event/annual-result-2023/
LOCATION:Result Announcement for Mid-term Exams\, Al Hasanain Islamic Institute\, Green Town\,\, Faisalabad\, Punjab\, 38000\, Pakistan
CATEGORIES:Results
ATTACH;FMTTYPE=image/jpeg:https://alhasanainofficial.com/wp-content/uploads/2023/09/400.jpg
END:VEVENT
END:VCALENDAR