BEGIN:VCALENDAR
VERSION:2.0
PRODID:-//Al Hasanain Official - ECPv6.3.3.1//NONSGML v1.0//EN
CALSCALE:GREGORIAN
METHOD:PUBLISH
X-WR-CALNAME:Al Hasanain Official
X-ORIGINAL-URL:https://alhasanainofficial.com
X-WR-CALDESC:Events for Al Hasanain Official
REFRESH-INTERVAL;VALUE=DURATION:PT1H
X-Robots-Tag:noindex
X-PUBLISHED-TTL:PT1H
BEGIN:VTIMEZONE
TZID:UTC
BEGIN:STANDARD
TZOFFSETFROM:+0000
TZOFFSETTO:+0000
TZNAME:UTC
DTSTART:20230101T000000
END:STANDARD
END:VTIMEZONE
BEGIN:VEVENT
DTSTART;TZID=UTC:20230118T110000
DTEND;TZID=UTC:20230119T123000
DTSTAMP:20260422T025130
CREATED:20230119T070045Z
LAST-MODIFIED:20230419T070909Z
UID:5046-1674039600-1674131400@alhasanainofficial.com
SUMMARY:Result Announcement for Mid-term Exams 2022
DESCRIPTION:After successfully conducting the mid-term exams\, the institute organizes Result Declaration Day. Result declaration day is very important to know the strengths and weaknesses of students in over-all academic performance. It also determines whether or not the course’s learning objectives have been met and explains to students any of their misunderstandings. The result of Mid-term Examinations for Academic Session 2022-2023 was announced on 18th of January\, 2023. The institute congratulated all the successful students\, their families and teachers\, all of whom have contributed to this achievement. The students who performed exceptionally in exams were awarded special prizes by the honorable guests to acknowledge their efforts and hard work.
URL:https://alhasanainofficial.com/event/result-announcement-for-mid-term-exams-2022/
LOCATION:Result Announcement for Mid-term Exams\, Al Hasanain Islamic Institute\, Green Town\,\, Faisalabad\, Punjab\, 38000\, Pakistan
CATEGORIES:Results
ATTACH;FMTTYPE=image/jpeg:https://alhasanainofficial.com/wp-content/uploads/2023/01/4X4.jpg
END:VEVENT
END:VCALENDAR