BEGIN:VCALENDAR
VERSION:2.0
PRODID:-//Al Hasanain Official - ECPv6.3.3.1//NONSGML v1.0//EN
CALSCALE:GREGORIAN
METHOD:PUBLISH
X-WR-CALNAME:Al Hasanain Official
X-ORIGINAL-URL:https://alhasanainofficial.com
X-WR-CALDESC:Events for Al Hasanain Official
REFRESH-INTERVAL;VALUE=DURATION:PT1H
X-Robots-Tag:noindex
X-PUBLISHED-TTL:PT1H
BEGIN:VTIMEZONE
TZID:UTC
BEGIN:STANDARD
TZOFFSETFROM:+0000
TZOFFSETTO:+0000
TZNAME:UTC
DTSTART:20230101T000000
END:STANDARD
END:VTIMEZONE
BEGIN:VEVENT
DTSTART;TZID=UTC:20231210T080000
DTEND;TZID=UTC:20231220T170000
DTSTAMP:20260422T220234
CREATED:20231212T054113Z
LAST-MODIFIED:20231212T055135Z
UID:5337-1702195200-1703091600@alhasanainofficial.com
SUMMARY:Mid-term Exams 2023
DESCRIPTION:Mid-term Exams are held in the middle of the academic year in Jamia Al-Hasanain\, and usually run from mid of December to end of December. Mid-term exams are a great way to evaluate students’ grasp of the course content and identify areas that need work. For students\, mid-term exams are a great opportunity to showcase their knowledge and understanding of their courses. They are also helpful for them in judging if their current study strategy is effective or requires changes. \nMid-term exams are very helpful in the preparation of final exams too. They help the students to evaluate their current progress and identify subjects they need to improve. For the Academic Year 2023-2024\, Mid-term exams were held from 10th of December\, 2023 to 20th of December\, 2023. The students walked into the exams feeling well-prepared and performed their best in the exams.
URL:https://alhasanainofficial.com/event/mid-term-exams-2023/
LOCATION:Result Announcement for Mid-term Exams\, Al Hasanain Islamic Institute\, Green Town\,\, Faisalabad\, Punjab\, 38000\, Pakistan
CATEGORIES:Events,Exams
ATTACH;FMTTYPE=image/png:https://alhasanainofficial.com/wp-content/uploads/2023/12/400.png
END:VEVENT
END:VCALENDAR