BEGIN:VCALENDAR
VERSION:2.0
PRODID:-//Al Hasanain Official - ECPv6.3.3.1//NONSGML v1.0//EN
CALSCALE:GREGORIAN
METHOD:PUBLISH
X-WR-CALNAME:Al Hasanain Official
X-ORIGINAL-URL:https://alhasanainofficial.com
X-WR-CALDESC:Events for Al Hasanain Official
REFRESH-INTERVAL;VALUE=DURATION:PT1H
X-Robots-Tag:noindex
X-PUBLISHED-TTL:PT1H
BEGIN:VTIMEZONE
TZID:UTC
BEGIN:STANDARD
TZOFFSETFROM:+0000
TZOFFSETTO:+0000
TZNAME:UTC
DTSTART:20230101T000000
END:STANDARD
END:VTIMEZONE
BEGIN:VEVENT
DTSTART;TZID=UTC:20230527T080000
DTEND;TZID=UTC:20230606T170000
DTSTAMP:20260423T071617
CREATED:20230527T042436Z
LAST-MODIFIED:20230916T052416Z
UID:5104-1685174400-1686070800@alhasanainofficial.com
SUMMARY:Annual Exams 2023
DESCRIPTION:Final Term Examinations have commenced in Al-Hasanain Islamic Institute from 27 of May and will end on 6th of June\, 2023. Final examinations are normally two hours in length and must be held when and where scheduled. \nJamia Al-Hasanain wishes all the best to the students for their exams! Jamia Al-Hasanain wishes all the best to the students for their exams Jamia Al-Hasanain wishes all the best to the students for their exams! Jamia Al-Hasanain wishes all the best to the students for their exams!
URL:https://alhasanainofficial.com/event/annual-exams-2022-2/
LOCATION:Result Announcement for Mid-term Exams\, Al Hasanain Islamic Institute\, Green Town\,\, Faisalabad\, Punjab\, 38000\, Pakistan
CATEGORIES:Exams
ATTACH;FMTTYPE=image/jpeg:https://alhasanainofficial.com/wp-content/uploads/2022/06/0011.jpg
END:VEVENT
END:VCALENDAR