BEGIN:VCALENDAR
VERSION:2.0
PRODID:-//Al Hasanain Official - ECPv6.3.3.1//NONSGML v1.0//EN
CALSCALE:GREGORIAN
METHOD:PUBLISH
X-WR-CALNAME:Al Hasanain Official
X-ORIGINAL-URL:https://alhasanainofficial.com
X-WR-CALDESC:Events for Al Hasanain Official
REFRESH-INTERVAL;VALUE=DURATION:PT1H
X-Robots-Tag:noindex
X-PUBLISHED-TTL:PT1H
BEGIN:VTIMEZONE
TZID:UTC
BEGIN:STANDARD
TZOFFSETFROM:+0000
TZOFFSETTO:+0000
TZNAME:UTC
DTSTART:20210101T000000
END:STANDARD
END:VTIMEZONE
BEGIN:VEVENT
DTSTART;VALUE=DATE:20211218
DTEND;VALUE=DATE:20211224
DTSTAMP:20260424T223423
CREATED:20170309T082530Z
LAST-MODIFIED:20220604T075024Z
UID:620-1639785600-1640303999@alhasanainofficial.com
SUMMARY:Mid-term Exams 2021
DESCRIPTION:Mid-term Exams are held in the middle of the academic year in Jamia Al-Hasanain\, and usually run from mid of December to end of December. Mid-term exams are a great way to evaluate students’ grasp of the course content and identify areas that need work. For students\, mid-term exams are a great opportunity to showcase their knowledge and understanding of their courses. They are also helpful for them in judging if their current study strategy is effective or requires changes. \nMid-term exams are very helpful in the preparation of final exams too. They help the students to evaluate their current progress and identify subjects they need to improve. For the Academic Year 2021-2022\, Mid-term exams were held from 18th of December\, 2021 to 23rd of December\, 2022. The students walked into the exams feeling well-prepared and performed their best in the exams.
URL:https://alhasanainofficial.com/event/mid-term-exams/
LOCATION:Result Announcement for Mid-term Exams\, Al Hasanain Islamic Institute\, Green Town\,\, Faisalabad\, Punjab\, 38000\, Pakistan
CATEGORIES:Exams
ATTACH;FMTTYPE=image/jpeg:https://alhasanainofficial.com/wp-content/uploads/2017/03/Exams-400X400.jpg
END:VEVENT
END:VCALENDAR